BEGIN:VCALENDAR
VERSION:2.0
PRODID:-//Seed Of Light - ECPv6.15.20//NONSGML v1.0//EN
CALSCALE:GREGORIAN
METHOD:PUBLISH
X-WR-CALNAME:Seed Of Light
X-ORIGINAL-URL:https://solsanador.com
X-WR-CALDESC:Eventos para Seed Of Light
REFRESH-INTERVAL;VALUE=DURATION:PT1H
X-Robots-Tag:noindex
X-PUBLISHED-TTL:PT1H
BEGIN:VTIMEZONE
TZID:Europe/Madrid
BEGIN:DAYLIGHT
TZOFFSETFROM:+0100
TZOFFSETTO:+0200
TZNAME:CEST
DTSTART:20250330T010000
END:DAYLIGHT
BEGIN:STANDARD
TZOFFSETFROM:+0200
TZOFFSETTO:+0100
TZNAME:CET
DTSTART:20251026T010000
END:STANDARD
BEGIN:DAYLIGHT
TZOFFSETFROM:+0100
TZOFFSETTO:+0200
TZNAME:CEST
DTSTART:20260329T010000
END:DAYLIGHT
BEGIN:STANDARD
TZOFFSETFROM:+0200
TZOFFSETTO:+0100
TZNAME:CET
DTSTART:20261025T010000
END:STANDARD
BEGIN:DAYLIGHT
TZOFFSETFROM:+0100
TZOFFSETTO:+0200
TZNAME:CEST
DTSTART:20270328T010000
END:DAYLIGHT
BEGIN:STANDARD
TZOFFSETFROM:+0200
TZOFFSETTO:+0100
TZNAME:CET
DTSTART:20271031T010000
END:STANDARD
END:VTIMEZONE
BEGIN:VEVENT
DTSTART;TZID=Europe/Madrid:20260426T110000
DTEND;TZID=Europe/Madrid:20260426T140000
DTSTAMP:20260420T160817
CREATED:20260407T142637Z
LAST-MODIFIED:20260407T142637Z
UID:4789-1777201200-1777212000@solsanador.com
SUMMARY:Cercle Honra el teu Temple
DESCRIPTION:Sota l’energia de Taure i la força de la Lluna creixent\, ens trobarem per a un ritual de sobirania: \nPassarem del ‘fer’ al ‘ser’. Viurem una meditació profunda per trobar la teva clau interna i farem un ritual de tacte sagrat (massatge tàntric conscient) per honrar el temple que ets. \n✨ És hora de deixar de demanar permís per brillar. \n✨ Què farem?\n– Ens reunirem en Cercle per compartir\, escoltar i posar veu a la teva sobirania.\n– Meditació guiada per obrir la porta que et permet brillar.\n– Massatge tàntric conscient d’honra.\n– Cercle de cants al final\, per elevar la veu\, l’energia i la vibració del grup \nUn espai per recordar-te que la teva llum no treu espai a ningú.\nQue el teu cos és el teu lloc de descans.\nQue tu també ets divina. \n🌸 Data i lloc\nDiumenge\, 26 d’abril de 2026\nSant Gregori (Girona) \n🌼 Places limitades\nVull que sigui un espai íntim i cuidat\, per això només hi haurà poques places. \n🌱 Reserva\nEscriu-me a hola@solsanador.com o per whatsapp 680 444 488 i t’envio tota la informació
URL:https://solsanador.com/agenda/cercle-honra-el-teu-temple/
LOCATION:Seed of Light\, Sant Gregori\, Girona\, 17150\, Spain
CATEGORIES:AGENDA
ORGANIZER;CN="Seed of Light":MAILTO:hola@solsanador.com
END:VEVENT
END:VCALENDAR